BEGIN:VCALENDAR
VERSION:2.0
PRODID:-//Kleingärtnerverein Harthauer Hang Chemnitz e.V.//NONSGML kigkonsu
 lt.se iCalcreator 2.30.10//
CALSCALE:GREGORIAN
METHOD:PUBLISH
UID:a6346bba-e9fe-4121-a11f-6b3c330d5247
X-WR-CALNAME:iCagenda
X-WR-CALDESC:Event Management Extension for Joomla!
X-WR-RELCALID:3E26604A-50F4-4449-8B3E-E4F4932D05B5
X-WR-TIMEZONE:Europe/Berlin
BEGIN:VTIMEZONE
TZID:Europe/Berlin
BEGIN:STANDARD
TZNAME:CET
DTSTART:20251026T030000
TZOFFSETFROM:+0200
TZOFFSETTO:+0100
RDATE:20261025T030000
RDATE:20271031T030000
END:STANDARD
BEGIN:DAYLIGHT
TZNAME:CEST
DTSTART:20260329T020000
TZOFFSETFROM:+0100
TZOFFSETTO:+0200
RDATE:20270328T020000
RDATE:20280326T020000
END:DAYLIGHT
END:VTIMEZONE
BEGIN:VEVENT
UID:f4ab943a-86dd-40fc-9442-1950fa54b296
DTSTAMP:20260422T235029Z
CATEGORIES:Arbeitseinsatz
CLASS:PUBLIC
DESCRIPTION:
DTSTART:20260926T070000Z
DTEND:20260926T093000Z
GEO:00;0
LOCATION:Vereinsplatz
ORGANIZER:
SEQUENCE:1
SUMMARY:10. Arbeitseinsatz
TRANSP:OPAQUE
URL:https://harthauer-hang.de/termine/10-arbeitseinsatz-2026
END:VEVENT
END:VCALENDAR
