BEGIN:VCALENDAR
VERSION:2.0
PRODID:-//Kleingärtnerverein Harthauer Hang Chemnitz e.V.//NONSGML kigkonsu
 lt.se iCalcreator 2.30.10//
CALSCALE:GREGORIAN
METHOD:PUBLISH
UID:a1032dd7-b3ad-4c99-add4-a1e92c3a99d4
X-WR-CALNAME:iCagenda
X-WR-CALDESC:Event Management Extension for Joomla!
X-WR-RELCALID:3E26604A-50F4-4449-8B3E-E4F4932D05B5
X-WR-TIMEZONE:Europe/Berlin
BEGIN:VTIMEZONE
TZID:Europe/Berlin
BEGIN:STANDARD
TZNAME:CET
DTSTART:20201025T030000
TZOFFSETFROM:+0200
TZOFFSETTO:+0100
RDATE:20211031T030000
RDATE:20221030T030000
END:STANDARD
BEGIN:DAYLIGHT
TZNAME:CEST
DTSTART:20210328T020000
TZOFFSETFROM:+0100
TZOFFSETTO:+0200
RDATE:20220327T020000
RDATE:20230326T020000
END:DAYLIGHT
END:VTIMEZONE
BEGIN:VEVENT
UID:fbac0cec-1151-42a2-9e05-5272e938c6a3
DTSTAMP:20260423T200045Z
CATEGORIES:Arbeitseinsatz
CLASS:PUBLIC
DESCRIPTION;ALTREP="CID:<FFFF__=0ABBE548DFE235B58f9e8a93d@coffeebean.com>":
 Bitte unbedingt Arbeitsnachweishefte mitbringen.
DTSTART:20210925T070000Z
DTEND:20210925T093000Z
GEO:00;0
LOCATION:Vereinsplatz
ORGANIZER:
SEQUENCE:1
SUMMARY:Arbeitseinsatz
TRANSP:OPAQUE
URL:https://harthauer-hang.de/termine/45-arbeitseinsatz/2021-09-25-09-00
END:VEVENT
END:VCALENDAR
