BEGIN:VCALENDAR
VERSION:2.0
PRODID:-//Kleingärtnerverein Harthauer Hang Chemnitz e.V.//NONSGML kigkonsu
 lt.se iCalcreator 2.30.10//
CALSCALE:GREGORIAN
METHOD:PUBLISH
UID:811670a4-c9de-4df7-b870-b4fcb83d70ff
X-WR-CALNAME:iCagenda
X-WR-CALDESC:Event Management Extension for Joomla!
X-WR-RELCALID:3E26604A-50F4-4449-8B3E-E4F4932D05B5
X-WR-TIMEZONE:Europe/Berlin
BEGIN:VTIMEZONE
TZID:Europe/Berlin
BEGIN:STANDARD
TZNAME:CET
DTSTART:20201025T030000
TZOFFSETFROM:+0200
TZOFFSETTO:+0100
RDATE:20211031T030000
RDATE:20221030T030000
END:STANDARD
BEGIN:DAYLIGHT
TZNAME:CEST
DTSTART:20210328T020000
TZOFFSETFROM:+0100
TZOFFSETTO:+0200
RDATE:20220327T020000
RDATE:20230326T020000
END:DAYLIGHT
END:VTIMEZONE
BEGIN:VEVENT
UID:170d4416-e146-4517-9462-cb5fc97d06c2
DTSTAMP:20260426T040029Z
CATEGORIES:Arbeitseinsatz
CLASS:PUBLIC
DESCRIPTION;ALTREP="CID:<FFFF__=0ABBE548DFE235B58f9e8a93d@coffeebean.com>":
 Bitte unbedingt Arbeitsnachweishefte mitbringen.
DTSTART:20211009T070000Z
DTEND:20211009T093000Z
GEO:00;0
LOCATION:Vereinsplatz
ORGANIZER:
SEQUENCE:1
SUMMARY:Arbeitseinsatz
TRANSP:OPAQUE
URL:https://harthauer-hang.de/termine/46-arbeitseinsatz/2021-10-09-09-00
END:VEVENT
END:VCALENDAR
