BEGIN:VCALENDAR
VERSION:2.0
PRODID:-//Kleingärtnerverein Harthauer Hang Chemnitz e.V.//NONSGML kigkonsu
 lt.se iCalcreator 2.30.10//
CALSCALE:GREGORIAN
METHOD:PUBLISH
UID:33214481-e88e-4c6d-9fba-bcb2b103953c
X-WR-CALNAME:iCagenda
X-WR-CALDESC:Event Management Extension for Joomla!
X-WR-RELCALID:3E26604A-50F4-4449-8B3E-E4F4932D05B5
X-WR-TIMEZONE:Europe/Berlin
BEGIN:VTIMEZONE
TZID:Europe/Berlin
BEGIN:STANDARD
TZNAME:CET
DTSTART:20171029T030000
TZOFFSETFROM:+0200
TZOFFSETTO:+0100
RDATE:20181028T030000
END:STANDARD
BEGIN:DAYLIGHT
TZNAME:CEST
DTSTART:20180325T020000
TZOFFSETFROM:+0100
TZOFFSETTO:+0200
RDATE:20190331T020000
END:DAYLIGHT
END:VTIMEZONE
BEGIN:VEVENT
UID:d1b77e8a-c3c1-427a-bf57-880ab4c8cea4
DTSTAMP:20260420T163423Z
CATEGORIES:Arbeitseinsatz
CLASS:PUBLIC
DESCRIPTION;ALTREP="CID:<FFFF__=0ABBE548DFE235B58f9e8a93d@coffeebean.com>":
 Hallo zusammen\,\nwir möchten morgen gern die baufällige Laube im Bauhof a
 usräumen und alles Brauchbare auf dem Vereinsplatz lagern. Wenn dies erled
 igt ist\, kann die Laube abgerissen\, entsorgt und das Areal planiert werd
 en.\nDes Weiteren soll das Holz\, der 2015 gekauft Laube\, sortiert und eb
 enfalls auf dem Vereinsplatz gebracht werden.\nAuch wenn es kurzfristig is
 t\, würden wir uns freuen\, wenn wir dafür noch ein paar fleißige Hände fi
 nden würden.
DTSTART:20180407T120000Z
DTEND:20180407T133000Z
GEO:+50.772884;+12.926363
LOCATION:Bauhof  (Garten 01)
ORGANIZER;CN=:mail@harthauer-hang.de
SEQUENCE:1
SUMMARY:Arbeitseinsatz im Bauhof
TRANSP:OPAQUE
URL:https://harthauer-hang.de/termine/arbeitseinsatz-im-bauhof
END:VEVENT
END:VCALENDAR
